﻿BEGIN:VCALENDAR
VERSION:2.0
PRODID:-//Mairie de Sers - ECPv6.15.17//NONSGML v1.0//EN
CALSCALE:GREGORIAN
METHOD:PUBLISH
X-ORIGINAL-URL:https://www.mairie-sers.fr
X-WR-CALDESC:Évènements pour Mairie de Sers
REFRESH-INTERVAL;VALUE=DURATION:PT1H
X-Robots-Tag:noindex
X-PUBLISHED-TTL:PT1H
BEGIN:VTIMEZONE
TZID:Europe/Paris
BEGIN:DAYLIGHT
TZOFFSETFROM:+0100
TZOFFSETTO:+0200
TZNAME:CEST
DTSTART:20240331T010000
END:DAYLIGHT
BEGIN:STANDARD
TZOFFSETFROM:+0200
TZOFFSETTO:+0100
TZNAME:CET
DTSTART:20241027T010000
END:STANDARD
BEGIN:DAYLIGHT
TZOFFSETFROM:+0100
TZOFFSETTO:+0200
TZNAME:CEST
DTSTART:20250330T010000
END:DAYLIGHT
BEGIN:STANDARD
TZOFFSETFROM:+0200
TZOFFSETTO:+0100
TZNAME:CET
DTSTART:20251026T010000
END:STANDARD
BEGIN:DAYLIGHT
TZOFFSETFROM:+0100
TZOFFSETTO:+0200
TZNAME:CEST
DTSTART:20260329T010000
END:DAYLIGHT
BEGIN:STANDARD
TZOFFSETFROM:+0200
TZOFFSETTO:+0100
TZNAME:CET
DTSTART:20261025T010000
END:STANDARD
END:VTIMEZONE
BEGIN:VEVENT
DTSTART;VALUE=DATE:20251017
DTEND;VALUE=DATE:20251018
DTSTAMP:20260421T231058
CREATED:20251011T091548Z
LAST-MODIFIED:20251011T091548Z
UID:4180-1760659200-1760745599@www.mairie-sers.fr
SUMMARY:Vente de gâteaux
DESCRIPTION:
URL:https://www.mairie-sers.fr/evenement/vente-de-gateaux/
ATTACH;FMTTYPE=image/png:https://www.mairie-sers.fr/wp-content/uploads/2025/10/Vente-gateaux.png
END:VEVENT
BEGIN:VEVENT
DTSTART;TZID=Europe/Paris:20251025T080000
DTEND;TZID=Europe/Paris:20251025T170000
DTSTAMP:20260421T231058
CREATED:20251017T145310Z
LAST-MODIFIED:20251017T145310Z
UID:4188-1761379200-1761411600@www.mairie-sers.fr
SUMMARY:Vente de Chrysanthèmes
DESCRIPTION:
URL:https://www.mairie-sers.fr/evenement/vente-de-chrysanthemes-3/
LOCATION:Place de la Mairie\, Place de la Mairie\, Sers\, 16410\, France
ATTACH;FMTTYPE=image/jpeg:https://www.mairie-sers.fr/wp-content/uploads/2025/10/Vente-de-Chrysanthemes-2025.jpg
END:VEVENT
BEGIN:VEVENT
DTSTART;TZID=Europe/Paris:20251031T140000
DTEND;TZID=Europe/Paris:20251031T180000
DTSTAMP:20260421T231058
CREATED:20251027T175200Z
LAST-MODIFIED:20251027T175200Z
UID:4214-1761919200-1761933600@www.mairie-sers.fr
SUMMARY:Halloween
DESCRIPTION:
URL:https://www.mairie-sers.fr/evenement/halloween/
LOCATION:Salle des fêtes\, Sers\, 16410
ATTACH;FMTTYPE=image/jpeg:https://www.mairie-sers.fr/wp-content/uploads/2025/10/Halloween-2-2025.jpg
END:VEVENT
END:VCALENDAR