﻿BEGIN:VCALENDAR
VERSION:2.0
PRODID:-//Mairie de Sers - ECPv6.15.17//NONSGML v1.0//EN
CALSCALE:GREGORIAN
METHOD:PUBLISH
X-WR-CALNAME:Mairie de Sers
X-ORIGINAL-URL:https://www.mairie-sers.fr
X-WR-CALDESC:Évènements pour Mairie de Sers
REFRESH-INTERVAL;VALUE=DURATION:PT1H
X-Robots-Tag:noindex
X-PUBLISHED-TTL:PT1H
BEGIN:VTIMEZONE
TZID:Europe/Paris
BEGIN:DAYLIGHT
TZOFFSETFROM:+0100
TZOFFSETTO:+0200
TZNAME:CEST
DTSTART:20250330T010000
END:DAYLIGHT
BEGIN:STANDARD
TZOFFSETFROM:+0200
TZOFFSETTO:+0100
TZNAME:CET
DTSTART:20251026T010000
END:STANDARD
BEGIN:DAYLIGHT
TZOFFSETFROM:+0100
TZOFFSETTO:+0200
TZNAME:CEST
DTSTART:20260329T010000
END:DAYLIGHT
BEGIN:STANDARD
TZOFFSETFROM:+0200
TZOFFSETTO:+0100
TZNAME:CET
DTSTART:20261025T010000
END:STANDARD
BEGIN:DAYLIGHT
TZOFFSETFROM:+0100
TZOFFSETTO:+0200
TZNAME:CEST
DTSTART:20270328T010000
END:DAYLIGHT
BEGIN:STANDARD
TZOFFSETFROM:+0200
TZOFFSETTO:+0100
TZNAME:CET
DTSTART:20271031T010000
END:STANDARD
END:VTIMEZONE
BEGIN:VEVENT
DTSTART;TZID=Europe/Paris:20260131T143000
DTEND;TZID=Europe/Paris:20260131T143000
DTSTAMP:20260421T182316
CREATED:20251110T120431Z
LAST-MODIFIED:20260106T145316Z
UID:4240-1769869800-1769869800@www.mairie-sers.fr
SUMMARY:Samedi 31 janvier 2026 Pratiques funéraires
DESCRIPTION:
URL:https://www.mairie-sers.fr/evenement/samedi-31-janvier-2026-pratiques-funeraires/
LOCATION:prehisto-sers\, 588 Rue Montalembert\, SERS\, 16410
ATTACH;FMTTYPE=image/jpeg:https://www.mairie-sers.fr/wp-content/uploads/2025/11/Samedi-31-janvier-2026-Pratiques-funeraires.jpg
END:VEVENT
END:VCALENDAR