﻿BEGIN:VCALENDAR
VERSION:2.0
PRODID:-//Mairie de Sers - ECPv6.15.17//NONSGML v1.0//EN
CALSCALE:GREGORIAN
METHOD:PUBLISH
X-WR-CALNAME:Mairie de Sers
X-ORIGINAL-URL:https://www.mairie-sers.fr
X-WR-CALDESC:Évènements pour Mairie de Sers
REFRESH-INTERVAL;VALUE=DURATION:PT1H
X-Robots-Tag:noindex
X-PUBLISHED-TTL:PT1H
BEGIN:VTIMEZONE
TZID:Europe/Paris
BEGIN:DAYLIGHT
TZOFFSETFROM:+0100
TZOFFSETTO:+0200
TZNAME:CEST
DTSTART:20250330T010000
END:DAYLIGHT
BEGIN:STANDARD
TZOFFSETFROM:+0200
TZOFFSETTO:+0100
TZNAME:CET
DTSTART:20251026T010000
END:STANDARD
BEGIN:DAYLIGHT
TZOFFSETFROM:+0100
TZOFFSETTO:+0200
TZNAME:CEST
DTSTART:20260329T010000
END:DAYLIGHT
BEGIN:STANDARD
TZOFFSETFROM:+0200
TZOFFSETTO:+0100
TZNAME:CET
DTSTART:20261025T010000
END:STANDARD
BEGIN:DAYLIGHT
TZOFFSETFROM:+0100
TZOFFSETTO:+0200
TZNAME:CEST
DTSTART:20270328T010000
END:DAYLIGHT
BEGIN:STANDARD
TZOFFSETFROM:+0200
TZOFFSETTO:+0100
TZNAME:CET
DTSTART:20271031T010000
END:STANDARD
END:VTIMEZONE
BEGIN:VEVENT
DTSTART;TZID=Europe/Paris:20260222T110000
DTEND;TZID=Europe/Paris:20260222T110000
DTSTAMP:20260421T164023
CREATED:20260205T181830Z
LAST-MODIFIED:20260205T182038Z
UID:4290-1771758000-1771758000@www.mairie-sers.fr
SUMMARY:Carnaval
DESCRIPTION:
URL:https://www.mairie-sers.fr/evenement/carnaval/
LOCATION:Salle des fêtes\, Sers\, 16410
ATTACH;FMTTYPE=image/png:https://www.mairie-sers.fr/wp-content/uploads/2026/02/Carnaval-22-02-2026-scaled.png
END:VEVENT
END:VCALENDAR